Workbook

Sheet Gestoras
A1: Válida? | B1: Comentário | C1: CNPJ | D1: Razão social | E1: Nome comercial | F1: Categoria CVM | G1: UF | H1: Município | I1: DDD | J1: Telefone | K1: E-mail | L1: Site | M1: Patrimônio líquido (R$) | N1: Data do PL
C2: 23.447.556/0001-26 | D2: GFS ATIVOS FINANCEIROS E INVESTIMENTOS LTDA. | E2: GFS INVESTIMENTOS | F2: Gestor de Carteira | K2: leonardo.oliveira@gfsinvestimentos.com.br | L2: www.gfsinvestimentos.com.br
C3: 62.308.741/0001-91 | D3: Verterra Capital Ltda. | E3: Verterra Capital Ltda. | F3: Gestor de Carteira | K3: l.alves@verterracapital.com.br | L3: www.verterracapital.com.br
C4: 46.219.835/0001-38 | D4: JATOBÁ GESTORA DE RECURSOS LTDA. | E4: JATOBÁ GESTORA DE RECURSOS | F4: Gestor de Carteira | G4: AM | H4: MANAUS | I4: 92 | J4: 981966666 | K4: ighorabrahim@gmail.com | L4: www.jatobagestao.com.br
C5: 41.302.834/0001-39 | D5: B6 GESTORA DE RECURSOS LTDA | E5: ----- | F5: Gestor de Carteira | G5: BA | H5: SALVADOR | I5: 71 | J5: 35612966 | K5: contato@b6capital.com.br | L5: www.b6capital.com.br
C6: 26.122.817/0001-26 | D6: BTO GESTÃO DE RECURSOS LTDA | E6: BTO GESTÃO | F6: Gestor de Carteira | G6: BA | H6: SALVADOR | I6: 71 | J6: 35056548 | K6: adriano.moreno@btopartners.com.br | L6: www.btopartners.com.br
C7: 09.031.993/0001-33 | D7: GLOBAL ASSET GESTORA DE RECURSOS LTDA | E7: ACT MFO | F7: Gestor de Carteira | G7: BA | H7: SALVADOR | I7: 71 | J7: 99106776 | K7: caioandrade@actgrupo.com.br | L7: n/a
C8: 21.551.986/0001-68 | D8: PARAGUAÇU INVESTIMENTOS LTDA | E8: PARAGUAÇU INVESTIMENTOS | F8: Gestor de Carteira | G8: BA | H8: SALVADOR | I8: 71 | J8: 33421580 | K8: laurobarbosa@paraguacuinvest.com.br | L8: www.paraguacuinvest.com.br
C9: 27.445.498/0001-52 | D9: ASTOR GESTÃO DE RECURSOS LTDA | E9: ASTOR CAPITAL | F9: Gestor de Carteira | G9: CE | H9: FORTALEZA | I9: 85 | J9: 32677335 | K9: alexandre@astorcapital.com.br | L9: www.astorcapital.com.br
C10: 62.092.487/0001-37 | D10: Aplix Gestão de Recursos Ltda. | E10: Aplix Gestão de Recursos | F10: Gestor de Carteira | G10: CE | H10: FORTALEZA | I10: 85 | J10: 988858812 | K10: aplix.asset@aplix.com.br | L10: www.aplixasset.com.br
C11: 07.237.373/0001-20 | D11: BANCO DO NORDESTE DO BRASIL SA | E11: BANCO DO NORDESTE | F11: Gestor de Carteira | G11: CE | H11: FORTALEZA | I11: 85 | J11: 32993014 | L11: www.bnb.gov.br/fundos | M11: 2072725000.00 | N11: 2009-12-31
C12: 41.622.548/0001-50 | D12: BAOBA GESTÃO DE RECURSOS LTDA | E12: BAOBA CAPITAL | F12: Gestor de Carteira | G12: CE | H12: FORTALEZA | I12: 85 | J12: 31115681 | K12: contato@baobacapital.com.br | L12: www.baobacapital.com.br
C13: 42.524.344/0001-40 | D13: NOVUS CREDITO GESTAO DE RECURSOS LTDA | E13: NOVUS CREDITO GESTAO | F13: Gestor de Carteira | G13: CE | H13: FORTALEZA | I13: 85 | J13: 31046030 | K13: compliance@grifoasset.com.br | L13: www.novuscapital.com.br
C14: 44.874.562/0001-30 | D14: ARMADA GESTÃO DE RECURSOS LTDA | E14: ARMADA INVESTIMENTOS | F14: Gestor de Carteira | G14: DF | H14: BRASÍLIA | I14: 61 | J14: 32995464 | K14: andre@armada-asset.com | L14: https://www.armada-mfo.com/
C15: 47.952.345/0001-09 | D15: AVALON CAPITAL GESTORA DE RECURSOS LTDA. | E15: AVALON CAPITAL | F15: Gestor de Carteira | G15: DF | H15: BRASÍLIA | I15: 61 | J15: 992265142 | K15: diretoria@avalonasset.com.br | L15: https://www.avalonasset.com.br/
C16: 47.766.912/0001-32 | D16: BRM ASSET GESTÃO DE RECURSOS LTDA | E16: BRM GESTÃO DE RECURSOS | F16: Gestor de Carteira | G16: DF | H16: BRASÍLIA | I16: 61 | J16: 981127539 | K16: ap@brmasset.com.br | L16: https://www.brmasset.com.br/
C17: 41.986.711/0001-64 | D17: BUENA VISTA GESTORA DE RECURSOS LTDA. | E17: BUENA VISTA GESTORA DE RECURSOS | F17: Gestor de Carteira | G17: DF | H17: BRASÍLIA | I17: 61 | J17: 996511008 | K17: joao@buenavista.capital | L17: www.buenavista.capital
C18: 00.360.305/0001-04 | D18: CAIXA ECONOMICA FEDERAL | E18: CAIXA ECONOMICA FEDERAL | F18: Administrador Fiduciário e Gestor de Carteira | G18: DF | H18: BRASÍLIA | I18: 11 | J18: 35724600 | K18: geocf04@caixa.gov.br | L18: www.caixa.gov.br | M18: 3891469813.73 | N18: 2001-12-31
C19: 18.190.296/0001-16 | D19: CEDRO ASSET MANAGEMENT LTDA | E19: CEDRO CAPITAL | F19: Gestor de Carteira | G19: DF | H19: BRASÍLIA | I19: 61 | J19: 32220061 | K19: bruno@cedrocapital.com | L19: www.cedrocapital.com
C20: 51.603.597/0001-08 | D20: CERRADO GESTÃO DE ATIVOS LTDA. | E20: CERRADO ASSET | F20: Gestor de Carteira | G20: DF | H20: BRASÍLIA | I20: 61 | J20: 39991421 | K20: samuel.arantes@cerradoasset.com.br | L20: www.cerradoasset.com.br
C21: 52.425.003/0001-70 | D21: DOXOS GESTÃO DE RECURSOS LTDA. | E21: DOXOS CAPITAL | F21: Gestor de Carteira | G21: DF | H21: BRASÍLIA | I21: 61 | J21: 30478949 | K21: davi@doxoscapital.com.br | L21: www.doxoscapital.com.br
C22: 54.236.853/0001-56 | D22: LEMOS GALVÃO ASSET MANAGEMENT LTDA. | E22: LEMOS GALVÃO ASSET MANAGEMENT LTDA. | F22: Gestor de Carteira | G22: DF | H22: BRASÍLIA | I22: 61 | J22: 981122330 | K22: suporte@lemosgalvao.com | L22: https://lemosgalvao.wixsite.com/home
C23: 19.061.243/0001-68 | D23: MAZA INVESTIMENTOS E CORRETORA DE SEGUROS LTDA. | E23: MAZA INVESTIMENTOS | F23: Gestor de Carteira | G23: DF | H23: BRASÍLIA | I23: 61 | J23: 986616750 | K23: atendimento@mazainvest.com | L23: www.mazainvest.com.br
C24: 13.585.894/0001-70 | D24: POLARIS - INVESTIMENTOS, ASSESSORIA E PARTICIPAÇÕES LTDA | E24: POLARIS INVESTIMENTOS | F24: Gestor de Carteira | G24: DF | H24: BRASÍLIA | I24: 61 | J24: 35637463 | K24: equipe@polarisinvest.net | L24: www.polarisinvest.net
C25: 07.397.614/0001-06 | D25: SICOOB DISTRIBUIDORA DE TÍTULOS E VALORES MOBILIÁRIOS LTDA. | E25: SICOOB DTVM | F25: Administrador Fiduciário e Gestor de Carteira | G25: DF | H25: BRASÍLIA | I25: 61 | J25: 32175315 | K25: dtvm@sicoob.com.br | L25: www.sicoob.com.br/bancosicoob-dtvm
C26: 47.377.964/0001-17 | D26: SIMON CAPITAL GESTÃO DE RECURSOS LTDA. | E26: SIMON CAPITAL | F26: Gestor de Carteira | G26: DF | H26: BRASÍLIA | I26: 61 | J26: 981426645 | K26: contato@simoncapital.ai | L26: www.simoncapital.ai
C27: 34.431.691/0001-08 | D27: TRIESTOR ADMINISTRADORA DE CARTEIRA DE VALORES MOBILIÁRIOS LTDA. | E27: TRIESTOR | F27: Gestor de Carteira | G27: DF | H27: BRASÍLIA | I27: 61 | J27: 996989524 | K27: contato@triestor.com | L27: www.triestor.com
C28: 44.322.890/0001-23 | D28: VLGI ASSET LTDA. | E28: VLGI ASSET | F28: Gestor de Carteira | G28: DF | H28: BRASÍLIA | I28: 61 | J28: 998084500 | K28: matheus.portela@vlgiasset.com.br | L28: https://vlgiasset.com.br
C29: 28.156.057/0001-01 | D29: BANESTES DISTRIBUIDORA DE TÍTULOS E VALORES MOBILIÁRIOS S.A. | E29: BANESTES ASSET MANAGEMENT | F29: Administrador Fiduciário e Gestor de Carteira | G29: ES | H29: VITÓRIA | I29: 27 | J29: 33833100 | K29: asset@banestes.com.br | L29: www.banestesasset.com.br | M29: 20533739.04 | N29: 2015-12-31
C30: 38.318.963/0001-00 | D30: BRM CARBYNE GESTÃO DE RECURSOS LTDA. | E30: CARBYNE INVESTIMENTOS | F30: Gestor de Carteira | G30: ES | H30: VITÓRIA | I30: 21 | J30: 995411122 | K30: compliance@carbyneinvestimentos.com | L30: www.carbyneinvestimentos.com
C31: 14.569.262/0001-86 | D31: VGR GESTÃO DE RECURSOS LTDA. | E31: -- | F31: Gestor de Carteira | G31: ES | H31: VITÓRIA | I31: 27 | J31: 24640045 | K31: annibal.lima@vgrasset.com.br | L31: www.valorgestora.com.br
C32: 55.243.889/0001-20 | D32: BENAVENT ASSET LTDA | E32: - | F32: Gestor de Carteira | G32: GO | H32: GOIÂNIA | I32: 62 | J32: 36265034 | K32: ri@benavent.com.br | L32: https://www.benavent.com.br/
C33: 35.068.183/0001-61 | D33: BLUE ASSET GESTÃO DE RECURSOS LTDA. | E33: BLUE ASSET | F33: Gestor de Carteira | G33: GO | H33: GOIÂNIA | I33: 62 | J33: 34147645 | K33: compliance@trinusco.com.br | L33: blueasset.com.br
C34: 59.684.998/0001-33 | D34: BOOK CAPITAL LTDA | E34: Book Capital | F34: Gestor de Carteira | G34: GO | H34: GOIÂNIA | I34: 62 | J34: 37731500 | K34: compliance@trinusco.com.br | L34: https://www.bookcapital.com.br/
C35: 39.344.600/0001-02 | D35: BOX ASSET MANAGEMENT GESTORA DE RECURSOS LTDA. | E35: BOX ASSET | F35: Gestor de Carteira | G35: GO | H35: GOIÂNIA | I35: 62 | J35: 30919602 | K35: mfreitas@boxasset.com.br | L35: www.boxasset.com.br
C36: 59.684.778/0001-00 | D36: BRT Asset Ltda. | E36: BRT Asset | F36: Gestor de Carteira | G36: GO | H36: GOIÂNIA | I36: 62 | J36: 37731500 | K36: compliance@trinusco.com.br | L36: www.brtasset.com.br
C37: 32.352.944/0001-14 | D37: CIANO GESTÃO DE RECURSOS E EDUCAÇÃO LTDA. | E37: CIANO | F37: Gestor de Carteira | G37: GO | H37: GOIÂNIA | I37: 62 | J37: 993365897 | K37: contato@cianoinvestimentos.com | L37: www.cianoinvestimentos.com
C38: 58.516.711/0001-01 | D38: CROMA ASSET MANAGEMENT LTDA. | E38: CROMA ASSET | F38: Gestor de Carteira | G38: GO | H38: GOIÂNIA | I38: 62 | J38: 93206917 | K38: gestao@cromaasset.com.br | L38: www.cromaasset.com.br
C39: 59.706.327/0001-26 | D39: FLB ASSET LTDA. | E39: FLB ASSET | F39: Gestor de Carteira | G39: GO | H39: GOIÂNIA | I39: 62 | J39: 37731500 | K39: compliance@trinusco.com.br | L39: https://flbasset.com.br/
C40: 59.688.048/0001-87 | D40: GL Asset Ltda. | E40: NBL Asset | F40: Gestor de Carteira | G40: GO | H40: GOIÂNIA | I40: 62 | J40: 37731500 | K40: compliance@trinusco.com.br | L40: www.nblasset.com.br
...

Sheet Por UF
A1: UF | B1: Gestoras | C1: % do total | D1: Marcadas Sim | E1: Marcadas Não | F1: A validar | H1: Município | I1: UF | J1: Gestoras
A2: SP | B2: =COUNTIFS(Gestoras!$G$2:$G$1487,A2,Gestoras!$C$2:$C$1487,"<>") | C2: =B2/$B$20 | D2: =COUNTIFS(Gestoras!$G$2:$G$1487,A2,Gestoras!$A$2:$A$1487,"Sim") | E2: =COUNTIFS(Gestoras!$G$2:$G$1487,A2,Gestoras!$A$2:$A$1487,"Não") | F2: =B2-D2-E2 | H2: São Paulo | I2: SP | J2: 1014
A3: RJ | B3: =COUNTIFS(Gestoras!$G$2:$G$1487,A3,Gestoras!$C$2:$C$1487,"<>") | C3: =B3/$B$20 | D3: =COUNTIFS(Gestoras!$G$2:$G$1487,A3,Gestoras!$A$2:$A$1487,"Sim") | E3: =COUNTIFS(Gestoras!$G$2:$G$1487,A3,Gestoras!$A$2:$A$1487,"Não") | F3: =B3-D3-E3 | H3: Rio De Janeiro | I3: RJ | J3: 218
A4: MG | B4: =COUNTIFS(Gestoras!$G$2:$G$1487,A4,Gestoras!$C$2:$C$1487,"<>") | C4: =B4/$B$20 | D4: =COUNTIFS(Gestoras!$G$2:$G$1487,A4,Gestoras!$A$2:$A$1487,"Sim") | E4: =COUNTIFS(Gestoras!$G$2:$G$1487,A4,Gestoras!$A$2:$A$1487,"Não") | F4: =B4-D4-E4 | H4: Belo Horizonte | I4: MG | J4: 36
A5: RS | B5: =COUNTIFS(Gestoras!$G$2:$G$1487,A5,Gestoras!$C$2:$C$1487,"<>") | C5: =B5/$B$20 | D5: =COUNTIFS(Gestoras!$G$2:$G$1487,A5,Gestoras!$A$2:$A$1487,"Sim") | E5: =COUNTIFS(Gestoras!$G$2:$G$1487,A5,Gestoras!$A$2:$A$1487,"Não") | F5: =B5-D5-E5 | H5: Porto Alegre | I5: RS | J5: 31
A6: PR | B6: =COUNTIFS(Gestoras!$G$2:$G$1487,A6,Gestoras!$C$2:$C$1487,"<>") | C6: =B6/$B$20 | D6: =COUNTIFS(Gestoras!$G$2:$G$1487,A6,Gestoras!$A$2:$A$1487,"Sim") | E6: =COUNTIFS(Gestoras!$G$2:$G$1487,A6,Gestoras!$A$2:$A$1487,"Não") | F6: =B6-D6-E6 | H6: Curitiba | I6: PR | J6: 25
A7: SC | B7: =COUNTIFS(Gestoras!$G$2:$G$1487,A7,Gestoras!$C$2:$C$1487,"<>") | C7: =B7/$B$20 | D7: =COUNTIFS(Gestoras!$G$2:$G$1487,A7,Gestoras!$A$2:$A$1487,"Sim") | E7: =COUNTIFS(Gestoras!$G$2:$G$1487,A7,Gestoras!$A$2:$A$1487,"Não") | F7: =B7-D7-E7 | H7: Goiânia | I7: GO | J7: 19
A8: GO | B8: =COUNTIFS(Gestoras!$G$2:$G$1487,A8,Gestoras!$C$2:$C$1487,"<>") | C8: =B8/$B$20 | D8: =COUNTIFS(Gestoras!$G$2:$G$1487,A8,Gestoras!$A$2:$A$1487,"Sim") | E8: =COUNTIFS(Gestoras!$G$2:$G$1487,A8,Gestoras!$A$2:$A$1487,"Não") | F8: =B8-D8-E8 | H8: Brasília | I8: DF | J8: 15
A9: DF | B9: =COUNTIFS(Gestoras!$G$2:$G$1487,A9,Gestoras!$C$2:$C$1487,"<>") | C9: =B9/$B$20 | D9: =COUNTIFS(Gestoras!$G$2:$G$1487,A9,Gestoras!$A$2:$A$1487,"Sim") | E9: =COUNTIFS(Gestoras!$G$2:$G$1487,A9,Gestoras!$A$2:$A$1487,"Não") | F9: =B9-D9-E9 | H9: Nova Lima | I9: MG | J9: 13
A10: CE | B10: =COUNTIFS(Gestoras!$G$2:$G$1487,A10,Gestoras!$C$2:$C$1487,"<>") | C10: =B10/$B$20 | D10: =COUNTIFS(Gestoras!$G$2:$G$1487,A10,Gestoras!$A$2:$A$1487,"Sim") | E10: =COUNTIFS(Gestoras!$G$2:$G$1487,A10,Gestoras!$A$2:$A$1487,"Não") | F10: =B10-D10-E10 | H10: Florianópolis | I10: SC | J10: 13
A11: PE | B11: =COUNTIFS(Gestoras!$G$2:$G$1487,A11,Gestoras!$C$2:$C$1487,"<>") | C11: =B11/$B$20 | D11: =COUNTIFS(Gestoras!$G$2:$G$1487,A11,Gestoras!$A$2:$A$1487,"Sim") | E11: =COUNTIFS(Gestoras!$G$2:$G$1487,A11,Gestoras!$A$2:$A$1487,"Não") | F11: =B11-D11-E11 | H11: Barueri | I11: SP | J11: 9
A12: BA | B12: =COUNTIFS(Gestoras!$G$2:$G$1487,A12,Gestoras!$C$2:$C$1487,"<>") | C12: =B12/$B$20 | D12: =COUNTIFS(Gestoras!$G$2:$G$1487,A12,Gestoras!$A$2:$A$1487,"Sim") | E12: =COUNTIFS(Gestoras!$G$2:$G$1487,A12,Gestoras!$A$2:$A$1487,"Não") | F12: =B12-D12-E12 | H12: Campinas | I12: SP | J12: 9
A13: MT | B13: =COUNTIFS(Gestoras!$G$2:$G$1487,A13,Gestoras!$C$2:$C$1487,"<>") | C13: =B13/$B$20 | D13: =COUNTIFS(Gestoras!$G$2:$G$1487,A13,Gestoras!$A$2:$A$1487,"Sim") | E13: =COUNTIFS(Gestoras!$G$2:$G$1487,A13,Gestoras!$A$2:$A$1487,"Não") | F13: =B13-D13-E13 | H13: Fortaleza | I13: CE | J13: 5
... A15: SE | B15: =COUNTIFS(Gestoras!$G$2:$G$1487,A15,Gestoras!$C$2:$C$1487,"<>") | C15: =B15/$B$20 | D15: =COUNTIFS(Gestoras!$G$2:$G$1487,A15,Gestoras!$A$2:$A$1487,"Sim") | E15: =COUNTIFS(Gestoras!$G$2:$G$1487,A15,Gestoras!$A$2:$A$1487,"Não") | F15: =B15-D15-E15 | H15: Niterói | I15: RJ | J15: 5
A16: (sem UF) | B16: =COUNTIFS(Gestoras!$G$2:$G$1487,"",Gestoras!$C$2:$C$1487,"<>") | C16: =B16/$B$20 | D16: =COUNTIFS(Gestoras!$G$2:$G$1487,"",Gestoras!$A$2:$A$1487,"Sim") | E16: =COUNTIFS(Gestoras!$G$2:$G$1487,"",Gestoras!$A$2:$A$1487,"Não") | F16: =B16-D16-E16 | H16: Salvador | I16: BA | J16: 4
A17: PB | B17: =COUNTIFS(Gestoras!$G$2:$G$1487,A17,Gestoras!$C$2:$C$1487,"<>") | C17: =B17/$B$20 | D17: =COUNTIFS(Gestoras!$G$2:$G$1487,A17,Gestoras!$A$2:$A$1487,"Sim") | E17: =COUNTIFS(Gestoras!$G$2:$G$1487,A17,Gestoras!$A$2:$A$1487,"Não") | F17: =B17-D17-E17
A18: AM | B18: =COUNTIFS(Gestoras!$G$2:$G$1487,A18,Gestoras!$C$2:$C$1487,"<>") | C18: =B18/$B$20 | D18: =COUNTIFS(Gestoras!$G$2:$G$1487,A18,Gestoras!$A$2:$A$1487,"Sim") | E18: =COUNTIFS(Gestoras!$G$2:$G$1487,A18,Gestoras!$A$2:$A$1487,"Não") | F18: =B18-D18-E18
A19: PA | B19: =COUNTIFS(Gestoras!$G$2:$G$1487,A19,Gestoras!$C$2:$C$1487,"<>") | C19: =B19/$B$20 | D19: =COUNTIFS(Gestoras!$G$2:$G$1487,A19,Gestoras!$A$2:$A$1487,"Sim") | E19: =COUNTIFS(Gestoras!$G$2:$G$1487,A19,Gestoras!$A$2:$A$1487,"Não") | F19: =B19-D19-E19
A20: Total | B20: =SUM(B2:B19) | D20: =SUM(D2:D19) | E20: =SUM(E2:E19) | F20: =SUM(F2:F19)

Sheet Fonte
A1: Fonte: Portal de Dados Abertos da CVM (dados.cvm.gov.br), baixado em 07/10/2026.
A2: Gestoras: Cadastro de Administradores de Carteira (PJ), situação "Em funcionamento normal", categoria contendo Gestor de Carteira.
A3: Contatos são institucionais (e-mail e telefone do cadastro). Patrimônio líquido só vem preenchido em 31 linhas.
A4: Como validar: na aba Gestoras, coluna A, escolher Sim, Não ou Talvez. A linha fica verde no Sim. A aba Por UF soma sozinha.
